BEGIN:VCALENDAR
VERSION:2.0
PRODID:-//Taz Nadeem - ECPv6.15.20//NONSGML v1.0//EN
CALSCALE:GREGORIAN
METHOD:PUBLISH
X-ORIGINAL-URL:https://taznadeem.co.uk
X-WR-CALDESC:Events for Taz Nadeem
REFRESH-INTERVAL;VALUE=DURATION:PT1H
X-Robots-Tag:noindex
X-PUBLISHED-TTL:PT1H
BEGIN:VTIMEZONE
TZID:UTC
BEGIN:STANDARD
TZOFFSETFROM:+0000
TZOFFSETTO:+0000
TZNAME:UTC
DTSTART:20230101T000000
END:STANDARD
END:VTIMEZONE
BEGIN:VEVENT
DTSTART;TZID=UTC:20240420T180000
DTEND;TZID=UTC:20240420T180000
DTSTAMP:20260423T165923
CREATED:20211130T153704Z
LAST-MODIFIED:20240324T091521Z
UID:19965-1713636000-1713636000@taznadeem.co.uk
SUMMARY:Pro Debut - Saturday 20th April - Magna
DESCRIPTION:My PRO DEBUT\, April 20th at Magna Sheffield Cant wait to see you there! 								\n				\n					\n		\n					\n		\n				\n						\n					\n			\n						\n				\n					Buy Ticket
URL:https://taznadeem.co.uk/event/pro-debut/
LOCATION:Magna Science Centre\, Magna Way\, Templeborough\,\, Rotherham\, S60 1FD\, United Kingdom
CATEGORIES:Featured,Pro
ATTACH;FMTTYPE=image/jpeg:https://taznadeem.co.uk/wp-content/uploads/2024/03/Taz-Poster.jpg
END:VEVENT
END:VCALENDAR